BEGIN:VCALENDAR
VERSION:2.0
PRODID:-//ChurchDev//Events//EN
CALSCALE:GREGORIAN
METHOD:PUBLISH
BEGIN:VEVENT
UID:2977-20210926@www.ubbcpg.com
SUMMARY:Morning Worship Service
DTSTART:20210926T143000Z
DTEND:20210926T153000Z
DESCRIPTION:https://www.ubbcpg.com/events/morning-worship-service/
LOCATION:Petersburg\, VA
URL:https://www.ubbcpg.com/events/morning-worship-service/
DTSTAMP:20260419T210057Z
END:VEVENT
END:VCALENDAR
